BEGIN:VCALENDAR
VERSION:2.0
PRODID:-//PHC Med Staff - ECPv6.15.17.1//NONSGML v1.0//EN
CALSCALE:GREGORIAN
METHOD:PUBLISH
X-ORIGINAL-URL:https://www.phcmedstaff.ca
X-WR-CALDESC:Events for PHC Med Staff
REFRESH-INTERVAL;VALUE=DURATION:PT1H
X-Robots-Tag:noindex
X-PUBLISHED-TTL:PT1H
BEGIN:VTIMEZONE
TZID:America/Vancouver
BEGIN:DAYLIGHT
TZOFFSETFROM:-0800
TZOFFSETTO:-0700
TZNAME:PDT
DTSTART:20250309T100000
END:DAYLIGHT
BEGIN:STANDARD
TZOFFSETFROM:-0700
TZOFFSETTO:-0800
TZNAME:PST
DTSTART:20251102T090000
END:STANDARD
BEGIN:DAYLIGHT
TZOFFSETFROM:-0800
TZOFFSETTO:-0700
TZNAME:PDT
DTSTART:20260308T100000
END:DAYLIGHT
BEGIN:STANDARD
TZOFFSETFROM:-0700
TZOFFSETTO:-0800
TZNAME:PST
DTSTART:20261101T090000
END:STANDARD
BEGIN:DAYLIGHT
TZOFFSETFROM:-0800
TZOFFSETTO:-0700
TZNAME:PDT
DTSTART:20270314T100000
END:DAYLIGHT
BEGIN:STANDARD
TZOFFSETFROM:-0700
TZOFFSETTO:-0800
TZNAME:PST
DTSTART:20271107T090000
END:STANDARD
END:VTIMEZONE
BEGIN:VEVENT
DTSTART;TZID=America/Vancouver:20260209T060000
DTEND;TZID=America/Vancouver:20260312T210000
DTSTAMP:20260420T040513
CREATED:20260208T220859Z
LAST-MODIFIED:20260208T223957Z
UID:9709-1770616800-1773349200@www.phcmedstaff.ca
SUMMARY:Apply by March 12: PASS Pillar-focused Project Funding
DESCRIPTION:
URL:https://www.phcmedstaff.ca/physician-community/facility-engagement-funding/#new_tab
CATEGORIES:Medical Staff,Physician Voice & Plans
ATTACH;FMTTYPE=image/png:https://www.phcmedstaff.ca/wp-content/uploads/2025/06/ProjectsImagewithPHCLogos.png
END:VEVENT
BEGIN:VEVENT
DTSTART;TZID=America/Vancouver:20260223T120000
DTEND;TZID=America/Vancouver:20260223T130000
DTSTAMP:20260420T040513
CREATED:20260204T054747Z
LAST-MODIFIED:20260225T234133Z
UID:9670-1771848000-1771851600@www.phcmedstaff.ca
SUMMARY:MedStaff Event: The Road to Innovation at Providence
DESCRIPTION:Hosted by the Discover\, Learn and Innovate for Impact Pillar in collaboration with Innovarium. Explore the Innovation Roadmap\, get inspired and help move your ideas forward.  \n  \nIn this session\, you’ll learn how physician-led ideas move from concept to reality\, the challenges encountered along the way\, and how they were addressed.\n \n\n\n\n\n\n\n\n\n  \nYou’ll also gain a clear understanding of the supports available and where to turn when obstacles arise\, collaborate with experts\, and make a meaningful impact on patient care. Open to all medical staff interested in innovation. Enjoy a light lunch while connecting with colleagues. \n\n\n\n\n\n  \n\nIn person (with a light lunch) \nCullen Theatre at SPH \nSr. Germaine at MSJ \n\nOn zoom: \nCheck your email for the zoom link. \n\n\n\n\n\n  \nPlease RSVP by February 16 for lunch orders here> \n 
URL:https://www.phcmedstaff.ca/event/the-road-to-innovation-at-providence/
CATEGORIES:Medical Staff
ATTACH;FMTTYPE=image/png:https://www.phcmedstaff.ca/wp-content/uploads/2026/02/innovation-roadmap-header-photo.png
END:VEVENT
END:VCALENDAR